BEGIN:VCALENDAR
VERSION:2.0
PRODID:-//ox.ac.uk//NONSGML oxford.event//EN
X-WR-TIMEZONE:Europe/London
BEGIN:VTIMEZONE
TZID:Europe/London
X-LIC-LOCATION:Europe/London
BEGIN:DAYLIGHT
DTSTART;VALUE=DATE-TIME:19700329T010000
RRULE:FREQ=YEARLY;BYDAY=-1SU;BYMONTH=3
TZNAME:BST
TZOFFSETFROM:+0000
TZOFFSETTO:+0100
END:DAYLIGHT
BEGIN:STANDARD
DTSTART;VALUE=DATE-TIME:19701025T020000
RRULE:FREQ=YEARLY;BYDAY=-1SU;BYMONTH=10
TZNAME:GMT
TZOFFSETFROM:+0100
TZOFFSETTO:+0000
END:STANDARD
END:VTIMEZONE
BEGIN:VEVENT
SUMMARY:OxCIN Global Scholars + WIP
DTSTART;TZID=Europe/London;VALUE=DATE-TIME:20260513T120000
DTEND;TZID=Europe/London;VALUE=DATE-TIME:20260513T130000
DTSTAMP;VALUE=DATE-TIME:20260423T120918Z
UID:6bc65db982b04e98846611241e6e45cd
CATEGORIES:oxcin-united
CONTACT:Gaurav Bhalerao
CREATED;VALUE=DATE-TIME:20250217T145002Z
LAST-MODIFIED;VALUE=DATE-TIME:20260317T134322Z
LOCATION:Hybrid via Teams or in-person in the Cowey rooms\, FMRIB Annexe
SPEAKER:Patrick Filima
END:VEVENT
END:VCALENDAR
